BEGIN:VCALENDAR
VERSION:2.0
PRODID:-//hacksw/handcal//NONSGML v1.0//EN
CALSCALE:GREGORIAN
BEGIN:VEVENT
DTEND:20260302T120000Z
UID:nova-uni-event-19191
DTSTAMP:20260421T123925Z
LOCATION:Predavalnica Jožeta Pučnika (P1)\, Mestni trg 23
DESCRIPTION:Vljudno vas vabimo na Akademski forum Nove univerze na katerem bo gost prof. Martin Krygier s Pravne fakultete University of New South Wales (Sydney\, Avstralija). Predavanje z naslovom »Tempering Power. Beyond the Rule of Law« bo potekalo v angleškem jeziku. Naslov predavanja je obenem naslov njegove prihajajoče znanstvene monografije\, ki bo letos izšla pri Cambridge [&hellip\;]
URL;VALUE=URI:https://fds.nova-uni.si/dogodki/akademski-forum-tempering-power-beyond-the-rule-of-law/
SUMMARY:[AKADEMSKI FORUM]: Tempering Power. Beyond the Rule of Law
DTSTART:20260302T110000Z
END:VEVENT
END:VCALENDAR