BEGIN:VCALENDAR
VERSION:2.0
PRODID:-//hacksw/handcal//NONSGML v1.0//EN
CALSCALE:GREGORIAN
BEGIN:VEVENT
DTEND:20260514T170000Z
UID:nova-uni-event-19553
DTSTAMP:20260422T045212Z
LOCATION:Predavalnica Franceta Bučarja (P5)
DESCRIPTION:Dear Sir or Madam\, you are warmly invited to attend the academic forum organised by New University within the framework of the project Future Challenges of Contemporary Armed Forces\, entitled: IRAN: Geopolitical\, Security\, and Military-Strategic Dimensions The forum will take place on 14 May 2026 at 16:00 at Mestni trg 23\, Ljubljana. The discussion will [&hellip\;]
URL;VALUE=URI:https://fds.nova-uni.si/dogodki/akademski-forum-iran-geopolitical-security-and-military-strategic-dimensions/
SUMMARY:[AKADEMSKI FORUM]: IRAN: Geopolitical\, Security\, and Military-Strategic Dimensions
DTSTART:20260514T160000Z
END:VEVENT
END:VCALENDAR